BEGIN:VCALENDAR
VERSION:2.0
PRODID:icalendar-ruby
CALSCALE:GREGORIAN
BEGIN:VEVENT
DTSTAMP:20260424T084204Z
UID:d348d494-8852-4017-b6f5-cb8ebffd3843
DTSTART;VALUE=DATE:20260422
DESCRIPTION:Property ID# 605794\, Time: 1:00PM
SUMMARY:Auction for 79 Greens Road
END:VEVENT
END:VCALENDAR
