BEGIN:VCALENDAR
VERSION:2.0
PRODID:icalendar-ruby
CALSCALE:GREGORIAN
BEGIN:VEVENT
DTSTAMP:20260419T133504Z
UID:eb9bc346-3e59-405f-9dff-88879c1278c8
DTSTART;VALUE=DATE:20260205
DESCRIPTION:Property ID# 601994\, Time: 4:00PM
SUMMARY:Auction for 46 Mcquillan Avenue
END:VEVENT
END:VCALENDAR
