BEGIN:VCALENDAR
VERSION:2.0
PRODID:icalendar-ruby
CALSCALE:GREGORIAN
BEGIN:VEVENT
DTSTAMP:20260420T104807Z
UID:570a6af5-6413-441f-9040-94f486d0686c
DTSTART;VALUE=DATE:20251111
DESCRIPTION:Property ID# 598228\, Time: 1:00PM
SUMMARY:Auction for 
END:VEVENT
END:VCALENDAR
