BEGIN:VCALENDAR
VERSION:2.0
PRODID:icalendar-ruby
CALSCALE:GREGORIAN
BEGIN:VEVENT
DTSTAMP:20260423T110203Z
UID:51fc14ca-0bb9-4bf5-bc2a-9b65690f0c9d
DTSTART;VALUE=DATE:20211216
DESCRIPTION:Property ID# 523538\, Locatoin: Ray White Conway Building\, 188
  High St Rangiora\, Time: 4:00PM
SUMMARY:Auction for 
END:VEVENT
END:VCALENDAR
